BEGIN:VCALENDAR
VERSION:2.0
PRODID:-//Miles Art Gallery - ECPv6.15.20//NONSGML v1.0//EN
CALSCALE:GREGORIAN
METHOD:PUBLISH
X-WR-CALNAME:Miles Art Gallery
X-ORIGINAL-URL:https://miles-art.com
X-WR-CALDESC:Events for Miles Art Gallery
REFRESH-INTERVAL;VALUE=DURATION:PT1H
X-Robots-Tag:noindex
X-PUBLISHED-TTL:PT1H
BEGIN:VTIMEZONE
TZID:America/New_York
BEGIN:DAYLIGHT
TZOFFSETFROM:-0500
TZOFFSETTO:-0400
TZNAME:EDT
DTSTART:20240310T070000
END:DAYLIGHT
BEGIN:STANDARD
TZOFFSETFROM:-0400
TZOFFSETTO:-0500
TZNAME:EST
DTSTART:20241103T060000
END:STANDARD
BEGIN:DAYLIGHT
TZOFFSETFROM:-0500
TZOFFSETTO:-0400
TZNAME:EDT
DTSTART:20250309T070000
END:DAYLIGHT
BEGIN:STANDARD
TZOFFSETFROM:-0400
TZOFFSETTO:-0500
TZNAME:EST
DTSTART:20251102T060000
END:STANDARD
BEGIN:DAYLIGHT
TZOFFSETFROM:-0500
TZOFFSETTO:-0400
TZNAME:EDT
DTSTART:20260308T070000
END:DAYLIGHT
BEGIN:STANDARD
TZOFFSETFROM:-0400
TZOFFSETTO:-0500
TZNAME:EST
DTSTART:20261101T060000
END:STANDARD
END:VTIMEZONE
BEGIN:VEVENT
DTSTART;TZID=America/New_York:20251003T180000
DTEND;TZID=America/New_York:20251003T210000
DTSTAMP:20260424T211853
CREATED:20251015T222044Z
LAST-MODIFIED:20251015T222212Z
UID:553-1759514400-1759525200@miles-art.com
SUMMARY:Modern Coastal: A Fresh Perspective
DESCRIPTION:Modern Coastal: A Fresh Perspective \nPrepare to experience the serene and vibrant energy of the coast like never before with the latest exhibition Modern Coastal – A Fresh Perspective\, showing at Miles Art Gallery opens October 3rd\, 2025. \nMiles Art Gallery invites viewers to explore a unique interpretation of coastal life through a contemporary lens\, capturing the dynamic interplay between land\, sea\, and sky. The work merges traditional coastal elements with modern aesthetics\, delivering a refreshing visual narrative that celebrates both the tranquility and ever-changing nature of the shore. \nVisitors will be immersed in a collection that bridges natural beauty and abstract form\, with a focus on texture\, light\, and movement. The exhibition promises to offer an inspiring journey for art lovers and coastal enthusiasts alike\, highlighting a distinctive style and a passion for re-envisioning familiar landscapes in innovative ways. \nJoin us at Miles Art Gallery this fall for Modern Coastal – A Fresh Perspective\, and discover how local Florida artists transform the ordinary into the extraordinary through contemporary coastal artistry.
URL:https://miles-art.com/event/modern-coastal-a-fresh-perspective/
LOCATION:FL
ATTACH;FMTTYPE=image/jpeg:https://miles-art.com/wp-content/uploads/2025/10/Modern-Coastal-Invite.jpg
END:VEVENT
END:VCALENDAR