BEGIN:VCALENDAR
VERSION:2.0
PRODID:-//Miles Art Gallery - ECPv6.15.20//NONSGML v1.0//EN
CALSCALE:GREGORIAN
METHOD:PUBLISH
X-ORIGINAL-URL:https://miles-art.com
X-WR-CALDESC:Events for Miles Art Gallery
REFRESH-INTERVAL;VALUE=DURATION:PT1H
X-Robots-Tag:noindex
X-PUBLISHED-TTL:PT1H
BEGIN:VTIMEZONE
TZID:America/New_York
BEGIN:DAYLIGHT
TZOFFSETFROM:-0500
TZOFFSETTO:-0400
TZNAME:EDT
DTSTART:20240310T070000
END:DAYLIGHT
BEGIN:STANDARD
TZOFFSETFROM:-0400
TZOFFSETTO:-0500
TZNAME:EST
DTSTART:20241103T060000
END:STANDARD
BEGIN:DAYLIGHT
TZOFFSETFROM:-0500
TZOFFSETTO:-0400
TZNAME:EDT
DTSTART:20250309T070000
END:DAYLIGHT
BEGIN:STANDARD
TZOFFSETFROM:-0400
TZOFFSETTO:-0500
TZNAME:EST
DTSTART:20251102T060000
END:STANDARD
BEGIN:DAYLIGHT
TZOFFSETFROM:-0500
TZOFFSETTO:-0400
TZNAME:EDT
DTSTART:20260308T070000
END:DAYLIGHT
BEGIN:STANDARD
TZOFFSETFROM:-0400
TZOFFSETTO:-0500
TZNAME:EST
DTSTART:20261101T060000
END:STANDARD
END:VTIMEZONE
BEGIN:VEVENT
DTSTART;TZID=America/New_York:20251107T170000
DTEND;TZID=America/New_York:20251107T210000
DTSTAMP:20260424T082327
CREATED:20251106T232407Z
LAST-MODIFIED:20251106T234136Z
UID:581-1762534800-1762549200@miles-art.com
SUMMARY:ART\, WINE & DINE
DESCRIPTION:  \n  \n  \nFRIDAYS 5pm-9pm – Enjoy Complimentary Wine \nMeet with our Gallerist to assist with Fine Art selections \nDine at “Dive Bar Restaurant”  Or   “Cafe Des Artistes” \n 
URL:https://miles-art.com/event/art-wine-dine/
LOCATION:Miles Art Gallery\, 318 US-1 #104\, Jupiter\, FL\, 33477\, United States
ATTACH;FMTTYPE=image/png:https://miles-art.com/wp-content/uploads/2025/11/MILES-ART-GALLERY-1-1.png
END:VEVENT
END:VCALENDAR