BEGIN:VCALENDAR
VERSION:2.0
PRODID:-//Miles Art Gallery - ECPv6.15.20//NONSGML v1.0//EN
CALSCALE:GREGORIAN
METHOD:PUBLISH
X-ORIGINAL-URL:https://miles-art.com
X-WR-CALDESC:Events for Miles Art Gallery
REFRESH-INTERVAL;VALUE=DURATION:PT1H
X-Robots-Tag:noindex
X-PUBLISHED-TTL:PT1H
BEGIN:VTIMEZONE
TZID:America/New_York
BEGIN:DAYLIGHT
TZOFFSETFROM:-0500
TZOFFSETTO:-0400
TZNAME:EDT
DTSTART:20240310T070000
END:DAYLIGHT
BEGIN:STANDARD
TZOFFSETFROM:-0400
TZOFFSETTO:-0500
TZNAME:EST
DTSTART:20241103T060000
END:STANDARD
BEGIN:DAYLIGHT
TZOFFSETFROM:-0500
TZOFFSETTO:-0400
TZNAME:EDT
DTSTART:20250309T070000
END:DAYLIGHT
BEGIN:STANDARD
TZOFFSETFROM:-0400
TZOFFSETTO:-0500
TZNAME:EST
DTSTART:20251102T060000
END:STANDARD
BEGIN:DAYLIGHT
TZOFFSETFROM:-0500
TZOFFSETTO:-0400
TZNAME:EDT
DTSTART:20260308T070000
END:DAYLIGHT
BEGIN:STANDARD
TZOFFSETFROM:-0400
TZOFFSETTO:-0500
TZNAME:EST
DTSTART:20261101T060000
END:STANDARD
END:VTIMEZONE
BEGIN:VEVENT
DTSTART;TZID=America/New_York:20251120T170000
DTEND;TZID=America/New_York:20251120T210000
DTSTAMP:20260423T130752
CREATED:20251113T004901Z
LAST-MODIFIED:20251113T004901Z
UID:599-1763658000-1763672400@miles-art.com
SUMMARY:ART: MARKET
DESCRIPTION:NOV 20th   5pm – 9pm \nNew artisans\, complimentary wine\, live music
URL:https://miles-art.com/event/art-market/
LOCATION:FL
ATTACH;FMTTYPE=image/png:https://miles-art.com/wp-content/uploads/2025/11/Blue-and-Black-Modern-Vintage-Art-Market-Instagram-Post-1.png
END:VEVENT
END:VCALENDAR